BEGIN:VCALENDAR
VERSION:2.0
PRODID:-//ZEBRA Project - ECPv6.15.18//NONSGML v1.0//EN
CALSCALE:GREGORIAN
METHOD:PUBLISH
X-WR-CALNAME:ZEBRA Project
X-ORIGINAL-URL:https://zebra-project.eu
X-WR-CALDESC:Events for ZEBRA Project
REFRESH-INTERVAL;VALUE=DURATION:PT1H
X-Robots-Tag:noindex
X-PUBLISHED-TTL:PT1H
BEGIN:VTIMEZONE
TZID:Europe/Stockholm
BEGIN:DAYLIGHT
TZOFFSETFROM:+0100
TZOFFSETTO:+0200
TZNAME:CEST
DTSTART:20250330T010000
END:DAYLIGHT
BEGIN:STANDARD
TZOFFSETFROM:+0200
TZOFFSETTO:+0100
TZNAME:CET
DTSTART:20251026T010000
END:STANDARD
BEGIN:DAYLIGHT
TZOFFSETFROM:+0100
TZOFFSETTO:+0200
TZNAME:CEST
DTSTART:20260329T010000
END:DAYLIGHT
BEGIN:STANDARD
TZOFFSETFROM:+0200
TZOFFSETTO:+0100
TZNAME:CET
DTSTART:20261025T010000
END:STANDARD
BEGIN:DAYLIGHT
TZOFFSETFROM:+0100
TZOFFSETTO:+0200
TZNAME:CEST
DTSTART:20270328T010000
END:DAYLIGHT
BEGIN:STANDARD
TZOFFSETFROM:+0200
TZOFFSETTO:+0100
TZNAME:CET
DTSTART:20271031T010000
END:STANDARD
END:VTIMEZONE
BEGIN:VEVENT
DTSTART;VALUE=DATE:20260426
DTEND;VALUE=DATE:20260502
DTSTAMP:20260419T181543
CREATED:20260325T145922Z
LAST-MODIFIED:20260330T072351Z
UID:679-1777161600-1777679999@zebra-project.eu
SUMMARY:From Europe to Honolulu: ZEBRA at MRS 2026
DESCRIPTION:Members of the ZEBRA project team will take part in the 2026 MRS Spring Meeting & Exhibit\, one of the world’s leading international conferences in materials science\, held in Honolulu\, Hawaii. \nBringing together researchers from academia\, industry\, and research institutions\, the event provides a global platform for scientific exchange and collaboration\, with a strong focus on emerging topics such as energy materials and sustainable technologies. \nZEBRA will be represented by Minghao Yu (Technische Universität Dresden) and Jinhua Sun (Chalmers University of Technology)\, who will contribute to the conference through presentations and discussions. \nBy engaging with leading experts and showcasing its latest developments\, ZEBRA continues to build momentum toward safe\, cost-effective\, and sustainable energy storage solutions for Europe.
URL:https://zebra-project.eu/event/from-europe-to-honolulu-zebra-at-mrs-2026/
LOCATION:Honolulu\, Hawaii\, HI\, United States
ATTACH;FMTTYPE=image/jpeg:https://zebra-project.eu/wp-content/uploads/2026/03/S26MRS.jpg
END:VEVENT
END:VCALENDAR